BEGIN:VCALENDAR
VERSION:2.0
PRODID:-//eventon.com NONSGML v1.0//EN
CALSCALE:GREGORIAN
METHOD:PUBLISH
BEGIN:VEVENT
UID:69eb8be91ab19
DTSTAMP:20260424T152737Z
DTSTART:20260501T173000Z
DTEND:20260501T203000Z
LOCATION:Marina Square
SUMMARY:Fort Pierce Friday Fest
DESCRIPTION:Marina Square\, &nbsp;1 Avenue AFort Pierce\,  FL\,  34950 Come
  celebrate with us! We have been voted as INDIAN RIVER MAGAZINE’S BEST FE
 STIVAL! WHAT READERS SAY:&nbsp; “Main Street Fort Pierce built this to be
  the festival for newcomers\,  but once hooked\,  their first Friday of the
  month is set!” “Consistently fun.” “It’s[..]\nhttps://indianrive
 rmagazine.com/events/fort-pierce-friday-fest/
URL:https://indianrivermagazine.com/events/fort-pierce-friday-fest/
END:VEVENT
END:VCALENDAR