BEGIN:VCALENDAR
VERSION:2.0
PRODID:-//eventon.com NONSGML v1.0//EN
CALSCALE:GREGORIAN
METHOD:PUBLISH
BEGIN:VEVENT
UID:69eb8574e21bf
DTSTAMP:20260424T150004Z
DTSTART:20260521T130000Z
DTEND:20260521T060000Z
LOCATION:Elliott Museum 825 NE Ocean Blvd. Stuart\,  FL
SUMMARY:Eat Cake and Create with Debbit at the Elliott Museum
DESCRIPTION:Design Your Own Tablescape Party PackCreate. Paint. Host Beauti
 fully. Join us for&nbsp;Eat Cake &amp; Create&nbsp;workshop with instructor
 &nbsp;Debbie Roberts\,  set against the relaxed and inspiring backdrop of&n
 bsp;Tea on the Terrace. In this beginner-friendly watercolor class\,  youâ€
 ™ll design a coordinated&nbsp;Tea Party Packâ€”perfect for hosting a Mother
 â€™s Day gathering\,  birthday\,  bridal shower\,  or[..]\nhttps://indianri
 vermagazine.com/events/eat-cake-and-create-with-debbit-at-the-elliott-museu
 m/
URL:https://indianrivermagazine.com/events/eat-cake-and-create-with-debbit-at-the-elliott-museum/
END:VEVENT
END:VCALENDAR