BEGIN:VCALENDAR
VERSION:2.0
PRODID:-//eventon.com NONSGML v1.0//EN
CALSCALE:GREGORIAN
METHOD:PUBLISH
BEGIN:VEVENT
UID:69eb8bd323314
DTSTAMP:20260424T152715Z
DTSTART:20260516T140000Z
DTEND:20260516T060000Z
LOCATION:Unitarian Universalist Fellowship of Vero Beach 1590 27th Ave. Vero Beach\,  FL 32960
SUMMARY:The Turnaway Play
DESCRIPTION:THE TURNAWAY PLAY by Lesley Lisa Greene\,  presented by the Ini
 tiative for Reproductive Justice Group and hosted at the Unitarian Universa
 list Fellowship of Vero Beach\,  will be held on Saturday\,  May 16\,  2026
  at 2:00 p.m. &nbsp; How does getting an abortion or not influence a womanâ
 €™s life? What happens[..]\nhttps://indianrivermagazine.com/events/the-turn
 away-play/
URL:https://indianrivermagazine.com/events/the-turnaway-play/
END:VEVENT
END:VCALENDAR