BEGIN:VCALENDAR
VERSION:2.0
PRODID:-//eventon.com NONSGML v1.0//EN
CALSCALE:GREGORIAN
METHOD:PUBLISH
BEGIN:VEVENT
UID:69eb882395e60
DTSTAMP:20260424T151131Z
DTSTART:20260524T160000Z
DTEND:20260524T173000Z
LOCATION:First Baptist Church 2206 16th Ave.\,  Vero Beach\,  Florida 32960\,  United States
SUMMARY:Let Freedom Ring
DESCRIPTION:The Louisiana Purchase doubled the size of our country\,  the S
 uffragettes fought for women&#8217;s right to vote\,  the Apollo 11 moon la
 nding expanded our horizons\,  the 9-11 attacks unified us &#8211; two and 
 a half centuries of building and expanding the democratic republic that is 
 America with more memorable moments[..]\nhttps://indianrivermagazine.com/ev
 ents/let-freedom-ring/
URL:https://indianrivermagazine.com/events/let-freedom-ring/
END:VEVENT
END:VCALENDAR