BEGIN:VCALENDAR
VERSION:2.0
PRODID:-//eventon.com NONSGML v1.0//EN
CALSCALE:GREGORIAN
METHOD:PUBLISH
BEGIN:VEVENT
UID:69eb87c295caa
DTSTAMP:20260424T150954Z
DTSTART:20260521T143000Z
DTEND:20260523T140000Z
LOCATION:Morningside Branch Library 2410 SE Morningside Blvd.\,  Port St. Lucie\,  Florida 34952\,  United States
SUMMARY:Miniature Historical Diorama and Replica Display
DESCRIPTION:Come and see famous battles of the past recreated in 22mm scale
  miniature form. You can see the Alamo\,  World War One\,  World War Two\, 
  Vietnam\,  Rome\,  the American Revolutionary War\,  the American Civil Wa
 r\,  Waterloo\,  and several others. There will also be a hands-on display 
 of replicas like a[..]\nhttps://indianrivermagazine.com/events/miniature-hi
 storical-diorama-and-replica-display-2/
URL:https://indianrivermagazine.com/events/miniature-historical-diorama-and-replica-display-2/
END:VEVENT
END:VCALENDAR