BEGIN:VCALENDAR
VERSION:2.0
PRODID:-//eventon.com NONSGML v1.0//EN
CALSCALE:GREGORIAN
METHOD:PUBLISH
BEGIN:VEVENT
UID:69ea4da3e79ff
DTSTAMP:20260423T164939Z
DTSTART:20260411T130000Z
DTEND:20260411T143000Z
LOCATION:FAU Harbor Branch Johnson Education Center 5600 US 1 North\,  Harbor Branch Oceanographic Institute
SUMMARY:FAU Harbor Branch Indian River Lagoon Boat Tours
DESCRIPTION:Participants will experience the lagoon like never before\,  as
  marine scientists with state-of-the-art tools\,  while learning about wild
 life and conservation. Boat Tours are offered on Fridays and Saturdays\,  a
 nd up-to-date availability can be found on our website. All tours are an ho
 ur and a half in length and are limited[..]\nhttps://indianrivermagazine.co
 m/events/fau-harbor-branch-indian-river-lagoon-boat-tours-2/
URL:https://indianrivermagazine.com/events/fau-harbor-branch-indian-river-lagoon-boat-tours-2/
END:VEVENT
END:VCALENDAR